BEGIN:VCALENDAR
VERSION:2.0
PRODID:-//West Cheshire Autism Hub - ECPv6.15.20//NONSGML v1.0//EN
CALSCALE:GREGORIAN
METHOD:PUBLISH
X-WR-CALNAME:West Cheshire Autism Hub
X-ORIGINAL-URL:https://westcheshireautismhub.org.uk
X-WR-CALDESC:Events for West Cheshire Autism Hub
REFRESH-INTERVAL;VALUE=DURATION:PT1H
X-Robots-Tag:noindex
X-PUBLISHED-TTL:PT1H
BEGIN:VTIMEZONE
TZID:UTC
BEGIN:STANDARD
TZOFFSETFROM:+0000
TZOFFSETTO:+0000
TZNAME:UTC
DTSTART:20240101T000000
END:STANDARD
END:VTIMEZONE
BEGIN:VEVENT
DTSTART;VALUE=DATE:20251224
DTEND;VALUE=DATE:20260102
DTSTAMP:20260422T204711
CREATED:20231205T102005Z
LAST-MODIFIED:20250701T130737Z
UID:976-1766534400-1767311999@westcheshireautismhub.org.uk
SUMMARY:Closed for Christmas
DESCRIPTION:Dial House is closed for the Christmas Holidays. We will see you in 2026.
URL:https://westcheshireautismhub.org.uk/event/closed-for-christmas/
LOCATION:Dial House\, Hamilton Place\, Chester\, CH1 2BH\, United Kingdom
ATTACH;FMTTYPE=image/jpeg:https://westcheshireautismhub.org.uk/wp-content/uploads/2023/12/Christmas2-scaled-e1701771714947.jpg
ORGANIZER;CN="West Cheshire Autism Hub":MAILTO:autism.hub@dialwestcheshire.org.uk
END:VEVENT
BEGIN:VEVENT
DTSTART;TZID=UTC:20260107T130000
DTEND;TZID=UTC:20260107T150000
DTSTAMP:20260422T204711
CREATED:20240618T124834Z
LAST-MODIFIED:20251218T115333Z
UID:1439-1767790800-1767798000@westcheshireautismhub.org.uk
SUMMARY:Pop in and Chat
DESCRIPTION:Our pop in and chat session is every Wednesday 1-3pm. This is an informal social session with board games\, jigsaws\, colouring and fidget toys\, where members can chat to each other over a tea/coffee. Our staff and volunteers are on hand to ask questions or chat to but not on a 1:1 basis.
URL:https://westcheshireautismhub.org.uk/event/pop-in-and-chat-31/
LOCATION:Dial House\, Hamilton Place\, Chester\, CH1 2BH\, United Kingdom
ATTACH;FMTTYPE=image/png:https://westcheshireautismhub.org.uk/wp-content/uploads/2023/12/Poppin-and-Chat-web.png
ORGANIZER;CN="West Cheshire Autism Hub":MAILTO:autism.hub@dialwestcheshire.org.uk
END:VEVENT
BEGIN:VEVENT
DTSTART;TZID=UTC:20260109T100000
DTEND;TZID=UTC:20260109T113000
DTSTAMP:20260422T204711
CREATED:20250214T115244Z
LAST-MODIFIED:20251218T120057Z
UID:1707-1767952800-1767958200@westcheshireautismhub.org.uk
SUMMARY:Virtual CWP Autism and Communication Presentation
DESCRIPTION:Cheshire and Wirral Partnership NHS Trust (who deliver adult autism diagnoses) will be offering the following session delivered by clinicians from the Adult Autism Service. This will take place virtually and you will be sent a link in advance. \nTo book a space\, you can email: cwp.adultautismhubworkshops@nhs.net with your name\, date of birth and postcode. \nYou will receive an email to let you know if your booking has been successful. These sessions are booked on a first come first served basis so if you are not successful we will advise you of other available dates.
URL:https://westcheshireautismhub.org.uk/event/virtual-cwp-sensory-de-escalation-presentation/
LOCATION:virtual
ATTACH;FMTTYPE=image/png:https://westcheshireautismhub.org.uk/wp-content/uploads/2024/05/CWP-Info-sessions.png
END:VEVENT
BEGIN:VEVENT
DTSTART;TZID=UTC:20260114T130000
DTEND;TZID=UTC:20260114T150000
DTSTAMP:20260422T204711
CREATED:20240618T122926Z
LAST-MODIFIED:20260106T135803Z
UID:1419-1768395600-1768402800@westcheshireautismhub.org.uk
SUMMARY:Pop in and Chat with Tricia from Healthwatch
DESCRIPTION:We are thrilled that Tricia from Healthwatch Cheshire West will be joining us at our pop in and chat session this week.\nHealthwatch connects with community members and gathers comments/views on their experiences of local health services and adult social care anonymously. This information then gets fed back to help shape and improve services in the future. Healthwatch are an independent voice for the people of Cheshire West. Join us to feedback your views/comments to Tricia.\nYou can find out more about us here: https://healthwatchcwac.org.uk
URL:https://westcheshireautismhub.org.uk/event/pop-in-and-chat-29/
LOCATION:Dial House\, Hamilton Place\, Chester\, CH1 2BH\, United Kingdom
ATTACH;FMTTYPE=image/png:https://westcheshireautismhub.org.uk/wp-content/uploads/2024/06/Screenshot-2026-01-06-135728.png
ORGANIZER;CN="West Cheshire Autism Hub":MAILTO:autism.hub@dialwestcheshire.org.uk
END:VEVENT
BEGIN:VEVENT
DTSTART;TZID=UTC:20260121T100000
DTEND;TZID=UTC:20260121T113000
DTSTAMP:20260422T204711
CREATED:20250214T115514Z
LAST-MODIFIED:20260106T140831Z
UID:1711-1768989600-1768995000@westcheshireautismhub.org.uk
SUMMARY:Virtual CWP Autism & Communication Presentation
DESCRIPTION:Cheshire and Wirral Partnership NHS Trust (who deliver adult autism diagnoses) will be offering the following sessions in 2026 delivered by clinicians from the Adult Autism Service. These will take place virtually and face to face. If virtual\, you will be sent a link in advance. \nTo book a space\, you can email: cwp.adultautismhubworkshops@nhs.net with your name\, date of birth and postcode. For 1-1 sessions\, please provide a summary of what you would like to address in the session. For face to face sessions where a venue is not stated\, please email for clarification before booking. \nYou will receive an email to let you know if your booking has been successful. These sessions are booked on a first come first served basis so if you are not successful we will advise you of other available dates. \n*If you have any accessibility requirements please inform them when booking a space.
URL:https://westcheshireautismhub.org.uk/event/cwp-routine-and-change-presenation/
LOCATION:virtual
ATTACH;FMTTYPE=image/png:https://westcheshireautismhub.org.uk/wp-content/uploads/2024/05/CWP-Info-sessions.png
END:VEVENT
BEGIN:VEVENT
DTSTART;TZID=UTC:20260121T130000
DTEND;TZID=UTC:20260121T150000
DTSTAMP:20260422T204711
CREATED:20240618T122610Z
LAST-MODIFIED:20251218T115436Z
UID:1413-1769000400-1769007600@westcheshireautismhub.org.uk
SUMMARY:Pop in and Chat
DESCRIPTION:Our pop in and chat session is every Wednesday 1-3pm. This is an informal social session with board games\, jigsaws\, colouring and fidget toys\, where members can chat to each other over a tea/coffee. Our staff and volunteers are on hand to ask questions or chat to but not on a 1:1 basis.
URL:https://westcheshireautismhub.org.uk/event/pop-in-and-chat-26/
LOCATION:Dial House\, Hamilton Place\, Chester\, CH1 2BH\, United Kingdom
ATTACH;FMTTYPE=image/png:https://westcheshireautismhub.org.uk/wp-content/uploads/2023/12/Poppin-and-Chat-web.png
ORGANIZER;CN="West Cheshire Autism Hub":MAILTO:autism.hub@dialwestcheshire.org.uk
END:VEVENT
BEGIN:VEVENT
DTSTART;TZID=UTC:20260128T130000
DTEND;TZID=UTC:20260128T150000
DTSTAMP:20260422T204711
CREATED:20250120T095447Z
LAST-MODIFIED:20260106T135012Z
UID:1665-1769605200-1769612400@westcheshireautismhub.org.uk
SUMMARY:Cheshire Police drop in
DESCRIPTION:PC Anna Marcinkiewicz from Cheshire Constabulary will be joining us at Pop in and Chat in November. This is to build trust and good relations with our members so they feel able to report issues or ask for help from the police if they ever need it. PC Marcinkiewicz will also be answering any questions our members have about policing\, staying safe and the law.
URL:https://westcheshireautismhub.org.uk/event/cheshire-police-drop-in-5/
LOCATION:Dial House\, Hamilton Place\, Chester\, CH1 2BH\, United Kingdom
ATTACH;FMTTYPE=image/png:https://westcheshireautismhub.org.uk/wp-content/uploads/2024/06/Police-pop-in-e1737366477268.png
ORGANIZER;CN="West Cheshire Autism Hub":MAILTO:autism.hub@dialwestcheshire.org.uk
END:VEVENT
END:VCALENDAR