BEGIN:VCALENDAR
VERSION:2.0
PRODID:-//West Cheshire Autism Hub - ECPv6.15.20//NONSGML v1.0//EN
CALSCALE:GREGORIAN
METHOD:PUBLISH
X-WR-CALNAME:West Cheshire Autism Hub
X-ORIGINAL-URL:https://westcheshireautismhub.org.uk
X-WR-CALDESC:Events for West Cheshire Autism Hub
REFRESH-INTERVAL;VALUE=DURATION:PT1H
X-Robots-Tag:noindex
X-PUBLISHED-TTL:PT1H
BEGIN:VTIMEZONE
TZID:UTC
BEGIN:STANDARD
TZOFFSETFROM:+0000
TZOFFSETTO:+0000
TZNAME:UTC
DTSTART:20220101T000000
END:STANDARD
END:VTIMEZONE
BEGIN:VEVENT
DTSTART;TZID=UTC:20231125T110000
DTEND;TZID=UTC:20231125T130000
DTSTAMP:20260423T232503
CREATED:20231005T111552Z
LAST-MODIFIED:20231005T122639Z
UID:923-1700910000-1700917200@westcheshireautismhub.org.uk
SUMMARY:Dial West Cheshire Christmas Fair
DESCRIPTION:Join the West Cheshire Autism Hub’s service provider Dial West Cheshire for their  Christmas Fayre on 25th November between 11am and 1pm. Lots of family fun to be had with our games and face painting\, buy some last minute gifts at the pottery and handicraft stalls or just get into the festive spirit with a bacon butty\, brew or tasty cake. We look forward to seeing some of you there.
URL:https://westcheshireautismhub.org.uk/event/dial-west-cheshire-christmas-fair/
LOCATION:Dial House\, Hamilton Place\, Chester\, CH1 2BH\, United Kingdom
ATTACH;FMTTYPE=image/png:https://westcheshireautismhub.org.uk/wp-content/uploads/2023/10/Dial-Christmas-Fair-web.png
ORGANIZER;CN="Dial West Cheshire":MAILTO:contactus@dialwestcheshire.org.uk
END:VEVENT
END:VCALENDAR