BEGIN:VCALENDAR
VERSION:2.0
PRODID:-//West Cheshire Autism Hub - ECPv6.15.20//NONSGML v1.0//EN
CALSCALE:GREGORIAN
METHOD:PUBLISH
X-ORIGINAL-URL:https://westcheshireautismhub.org.uk
X-WR-CALDESC:Events for West Cheshire Autism Hub
REFRESH-INTERVAL;VALUE=DURATION:PT1H
X-Robots-Tag:noindex
X-PUBLISHED-TTL:PT1H
BEGIN:VTIMEZONE
TZID:UTC
BEGIN:STANDARD
TZOFFSETFROM:+0000
TZOFFSETTO:+0000
TZNAME:UTC
DTSTART:20240101T000000
END:STANDARD
END:VTIMEZONE
BEGIN:VEVENT
DTSTART;TZID=UTC:20250911T103000
DTEND;TZID=UTC:20250911T123000
DTSTAMP:20260422T175702
CREATED:20231205T100616Z
LAST-MODIFIED:20250909T114004Z
UID:963-1757586600-1757593800@westcheshireautismhub.org.uk
SUMMARY:Chester Post Diagnostic Course Week 3
DESCRIPTION:The course is for anyone diagnosed autistic as an adult. It will cover different topics each week including social communication and connection\, exploring sensory issues and how these affect you\, executive functioning\, masking\, autistic burnout and associated mental health difficulties\, exploring the strengths of autism and helping to build a positive autistic identity.
URL:https://westcheshireautismhub.org.uk/event/post-diagnostic-course-week-4-2/
LOCATION:St Marys Handbridge Centre\, Handbridge\, Chester\, CH4 7HL\, United Kingdom
ATTACH;FMTTYPE=image/png:https://westcheshireautismhub.org.uk/wp-content/uploads/2023/10/Post-Diagnostic-web.png
ORGANIZER;CN="West Cheshire Autism Hub":MAILTO:autism.hub@dialwestcheshire.org.uk
END:VEVENT
END:VCALENDAR