BEGIN:VCALENDAR
VERSION:2.0
PRODID:-//West Cheshire Autism Hub - ECPv6.15.20//NONSGML v1.0//EN
CALSCALE:GREGORIAN
METHOD:PUBLISH
X-WR-CALNAME:West Cheshire Autism Hub
X-ORIGINAL-URL:https://westcheshireautismhub.org.uk
X-WR-CALDESC:Events for West Cheshire Autism Hub
REFRESH-INTERVAL;VALUE=DURATION:PT1H
X-Robots-Tag:noindex
X-PUBLISHED-TTL:PT1H
BEGIN:VTIMEZONE
TZID:UTC
BEGIN:STANDARD
TZOFFSETFROM:+0000
TZOFFSETTO:+0000
TZNAME:UTC
DTSTART:20240101T000000
END:STANDARD
END:VTIMEZONE
BEGIN:VEVENT
DTSTART;TZID=UTC:20250730T130000
DTEND;TZID=UTC:20250730T150000
DTSTAMP:20260423T063015
CREATED:20250120T095232Z
LAST-MODIFIED:20250120T095232Z
UID:1661-1753880400-1753887600@westcheshireautismhub.org.uk
SUMMARY:Cheshire Police drop in
DESCRIPTION:PC Anna Marcinkiewicz from Cheshire Constabulary will be joining us at Pop in and Chat bi-monthly on the last Wednesday of the month in July\, September and November. This is to build trust and good relations with our members so they feel able to report issues or ask for help from the police if they ever need it. PC Marcinkiewicz will also be answering any questions our members have about policing\, staying safe and the law.
URL:https://westcheshireautismhub.org.uk/event/cheshire-police-drop-in-3/
LOCATION:Dial House\, Hamilton Place\, Chester\, CH1 2BH\, United Kingdom
ATTACH;FMTTYPE=image/png:https://westcheshireautismhub.org.uk/wp-content/uploads/2024/06/Police-pop-in-e1737366477268.png
ORGANIZER;CN="West Cheshire Autism Hub":MAILTO:autism.hub@dialwestcheshire.org.uk
END:VEVENT
END:VCALENDAR